BEGIN:VCALENDAR
PRODID:-//MŠ Montessori//MŠ Montessori (Zelená třída)//CZ
VERSION:2.0
NAME:MŠ Montessori (Zelená třída)
X-WR-CALNAME:MŠ Montessori (Zelená třída)
TIMEZONE-ID:Europe/Prague
X-WR-TIMEZONE:Europe/Prague
REFRESH-INTERVAL;VALUE=DURATION:PT1H
X-PUBLISHED-TTL:PT1H
CALSCALE:GREGORIAN
BEGIN:VTIMEZONE
TZID:Europe/Prague
X-LIC-LOCATION:Europe/Prague
BEGIN:DAYLIGHT
TZOFFSETFROM:+0100
TZOFFSETTO:+0200
TZNAME:CEST
DTSTART:19700329T020000
RRULE:FREQ=YEARLY;BYMONTH=3;BYDAY=-1SU
END:DAYLIGHT
BEGIN:STANDARD
TZOFFSETFROM:+0200
TZOFFSETTO:+0100
TZNAME:CET
DTSTART:19701025T030000
RRULE:FREQ=YEARLY;BYMONTH=10;BYDAY=-1SU
END:STANDARD
END:VTIMEZONE
BEGIN:VEVENT
UID:cid-13-05-202616\:00TR11@msmontessori.cz
DTSTAMP:20260420T030333Z
SUMMARY:Den maminek (⌂ Mezi Vodami)
DTSTART;TZID=Europe/Prague:20260513T160000
DTEND;TZID=Europe/Prague:20260513T170000
DESCRIPTION:
STATUS:CONFIRMED
END:VEVENT
BEGIN:VEVENT
UID:cid-15-04-202610\:00TR1@msmontessori.cz
DTSTAMP:20260420T030333Z
SUMMARY:Zápis do mateřské školy (MŠ Montessori)
DTSTART;TZID=Europe/Prague:20260415T100000
DTEND;TZID=Europe/Prague:20260415T110000
DESCRIPTION:
STATUS:CONFIRMED
END:VEVENT
BEGIN:VEVENT
UID:cid-14-04-202613\:00TR1@msmontessori.cz
DTSTAMP:20260420T030333Z
SUMMARY:Zápis do mateřské školy (MŠ Montessori)
DTSTART;TZID=Europe/Prague:20260414T130000
DTEND;TZID=Europe/Prague:20260414T235900
DESCRIPTION:
STATUS:CONFIRMED
END:VEVENT
BEGIN:VEVENT
UID:cid-25-03-202609\:00TR1@msmontessori.cz
DTSTAMP:20260420T030333Z
SUMMARY:Hudební program LESNÍ  KONCERT (MŠ Montessori)
DTSTART;TZID=Europe/Prague:20260325T090000
DTEND;TZID=Europe/Prague:20260325T100000
DESCRIPTION:Hudební setkání ve školce na téma cesta lesem - zpěv\, hudební hádanky\, hra na datlí orchestr\, malý lesní koncert
STATUS:CONFIRMED
END:VEVENT
BEGIN:VEVENT
UID:cid-27-03-2026TR1@msmontessori.cz
DTSTAMP:20260420T030333Z
SUMMARY:Vyšetření zraku (MŠ Montessori)
DTSTART;VALUE=DATE:20260327
DESCRIPTION:S přístrojem Plusoptix
STATUS:CONFIRMED
END:VEVENT
BEGIN:VEVENT
UID:cid-04-05-202609\:00TR11@msmontessori.cz
DTSTAMP:20260420T030333Z
SUMMARY:Primární prevence (⌂ Mezi Vodami)
DTSTART;TZID=Europe/Prague:20260504T090000
DTEND;TZID=Europe/Prague:20260504T100000
DESCRIPTION:Když ptáčka lapají\, pěkně mu zpívají (nebezpečí kolem nás)
STATUS:CONFIRMED
END:VEVENT
BEGIN:VEVENT
UID:cid-20-04-202609\:00TR11@msmontessori.cz
DTSTAMP:20260420T030333Z
SUMMARY:Primární prevence (⌂ Mezi Vodami)
DTSTART;TZID=Europe/Prague:20260420T090000
DTEND;TZID=Europe/Prague:20260420T100000
DESCRIPTION:Dobré slovo i železná vrata otvírá (přátelské vztahy ve třídě)
STATUS:CONFIRMED
END:VEVENT
BEGIN:VEVENT
UID:cid-30-03-202609\:00TR11@msmontessori.cz
DTSTAMP:20260420T030333Z
SUMMARY:Primární prevence (⌂ Mezi Vodami)
DTSTART;TZID=Europe/Prague:20260330T090000
DTEND;TZID=Europe/Prague:20260330T100000
DESCRIPTION:Není všechno zlato\, co se třpytí(virtuální svět)
STATUS:CONFIRMED
END:VEVENT
BEGIN:VEVENT
UID:cid-16-03-202609\:00TR11@msmontessori.cz
DTSTAMP:20260420T030333Z
SUMMARY:Primární prevence (⌂ Mezi Vodami)
DTSTART;TZID=Europe/Prague:20260316T090000
DTEND;TZID=Europe/Prague:20260316T100000
DESCRIPTION:Hněv je špatný rádce
STATUS:CONFIRMED
END:VEVENT
BEGIN:VEVENT
UID:cid-25-02-202609\:00TR1@msmontessori.cz
DTSTAMP:20260420T030333Z
SUMMARY:Divadelní představení ve školce \,\,O neposlušných kůzlátkách" (MŠ Montessori)
DTSTART;TZID=Europe/Prague:20260225T090000
DTEND;TZID=Europe/Prague:20260225T100000
DESCRIPTION:Návštěva divadelního spolku  Pruhované panenky v MŠ Montessori v ul.Mezi Vodami (v 9\,00) a v ul. Urbánkova.(v 10\,30)
STATUS:CONFIRMED
END:VEVENT
BEGIN:VEVENT
UID:cid-14-05-202609\:30TR1@msmontessori.cz
DTSTAMP:20260420T030333Z
SUMMARY:Dřevěné divadlo Honzy Hrubce - O zlaté rybce (MŠ Montessori)
DTSTART;TZID=Europe/Prague:20260514T093000
DTEND;TZID=Europe/Prague:20260514T103000
DESCRIPTION:Divadlo pro obě budovy MŠ. Začátek Mezi Vodami v 9\:30\, v Urbánkově v 11h.
STATUS:CONFIRMED
END:VEVENT
BEGIN:VEVENT
UID:cid-09-03-202609\:00TR1@msmontessori.cz
DTSTAMP:20260420T030333Z
SUMMARY:Divadlo Bravo - Hra o trůn (MŠ Montessori)
DTSTART;TZID=Europe/Prague:20260309T090000
DTEND;TZID=Europe/Prague:20260309T235900
DESCRIPTION:Návštěva divadla Bravo v Braníku. Představení spolku \,\,Bratři v tricku" zaměřené na důležitost správných hygienických návyků. 
STATUS:CONFIRMED
END:VEVENT
BEGIN:VEVENT
UID:cid-19-05-202609\:00TR11@msmontessori.cz
DTSTAMP:20260420T030333Z
SUMMARY:FOK kostel sv. Šimona a Judy - Od ucha k uchu - Hudba do lesa i zahrady (⌂ Mezi Vodami)
DTSTART;TZID=Europe/Prague:20260519T090000
DTEND;TZID=Europe/Prague:20260519T100000
DESCRIPTION:
STATUS:CONFIRMED
END:VEVENT
BEGIN:VEVENT
UID:cid-05-05-202609\:00TR11@msmontessori.cz
DTSTAMP:20260420T030333Z
SUMMARY:Rudolfinum - Dan Brown\: Divoká symfonie (⌂ Mezi Vodami)
DTSTART;TZID=Europe/Prague:20260505T090000
DTEND;TZID=Europe/Prague:20260505T100000
DESCRIPTION:
STATUS:CONFIRMED
END:VEVENT
BEGIN:VEVENT
UID:cid-23-03-202609\:00TR11@msmontessori.cz
DTSTAMP:20260420T030333Z
SUMMARY:Rudolfinum - Bystrý lišák Leoš (⌂ Mezi Vodami)
DTSTART;TZID=Europe/Prague:20260323T090000
DTEND;TZID=Europe/Prague:20260323T100000
DESCRIPTION:
STATUS:CONFIRMED
END:VEVENT
BEGIN:VEVENT
UID:cid-17-03-202609\:00TR11@msmontessori.cz
DTSTAMP:20260420T030333Z
SUMMARY:FOK kostel sv. Šimona a Judy - Od ucha k uchu - Hudba na doma i na zámek (⌂ Mezi Vodami)
DTSTART;TZID=Europe/Prague:20260317T090000
DTEND;TZID=Europe/Prague:20260317T100000
DESCRIPTION:
STATUS:CONFIRMED
END:VEVENT
END:VCALENDAR
 